BEGIN:VCALENDAR
VERSION:2.0
PRODID:-//Bike Mood - ECPv6.15.20//NONSGML v1.0//EN
CALSCALE:GREGORIAN
METHOD:PUBLISH
X-ORIGINAL-URL:https://www.bikemood.ro
X-WR-CALDESC:Evenimente pentru Bike Mood
REFRESH-INTERVAL;VALUE=DURATION:PT1H
X-Robots-Tag:noindex
X-PUBLISHED-TTL:PT1H
BEGIN:VTIMEZONE
TZID:Europe/Helsinki
BEGIN:DAYLIGHT
TZOFFSETFROM:+0200
TZOFFSETTO:+0300
TZNAME:EEST
DTSTART:20240331T010000
END:DAYLIGHT
BEGIN:STANDARD
TZOFFSETFROM:+0300
TZOFFSETTO:+0200
TZNAME:EET
DTSTART:20241027T010000
END:STANDARD
BEGIN:DAYLIGHT
TZOFFSETFROM:+0200
TZOFFSETTO:+0300
TZNAME:EEST
DTSTART:20250330T010000
END:DAYLIGHT
BEGIN:STANDARD
TZOFFSETFROM:+0300
TZOFFSETTO:+0200
TZNAME:EET
DTSTART:20251026T010000
END:STANDARD
BEGIN:DAYLIGHT
TZOFFSETFROM:+0200
TZOFFSETTO:+0300
TZNAME:EEST
DTSTART:20260329T010000
END:DAYLIGHT
BEGIN:STANDARD
TZOFFSETFROM:+0300
TZOFFSETTO:+0200
TZNAME:EET
DTSTART:20261025T010000
END:STANDARD
END:VTIMEZONE
BEGIN:VTIMEZONE
TZID:UTC
BEGIN:STANDARD
TZOFFSETFROM:+0000
TZOFFSETTO:+0000
TZNAME:UTC
DTSTART:20240101T000000
END:STANDARD
END:VTIMEZONE
BEGIN:VEVENT
DTSTART;TZID=Europe/Helsinki:20250614T080000
DTEND;TZID=Europe/Helsinki:20250614T170000
DTSTAMP:20260419T162721
CREATED:20250127T151858Z
LAST-MODIFIED:20250127T151858Z
UID:430-1749888000-1749920400@www.bikemood.ro
SUMMARY:Maratonul Târnavei XCM
DESCRIPTION:Maratonul Târnavei este un proiect al Asociației Târnăveni Cycling\, în colaborare cu Ruck Ventilatoare și CS Next Sports și va avea și în acest an startul și finish-ul în incinta Ruck Ventilatoare\, din Municipiul Târnaveni\, județul Mureș\, regiunea Transilvania. \nEvenimentul MARATONUL TÂRNAVEI cuprinde competiția de CROSS COUNTRY MOUNTAIN BIKE\, inclusă în calendarul Federației Române de Ciclism. \nAjuns la a 9-a ediție\, MARATONUL TÂRNAVEI își propune să sprijine un stil de viață sănătos și să promoveze ciclismul ca mod de petrecere a timpului  liber în natură. \nObiectivele principale ale competiției sunt încurajarea practicării ciclismului \, creşterea educaţiei ecologice și a respectului faţă de natură şi a mediului înconjurător\, conștientizarea beneficiilor asupra organismului uman ale practicării sportului în aer liber. \nTotodată\, Maratonul Târnavei își dorește a crea spațiul propice pentru a aduna împreună sportivi care împărtășesc aceleași valori ale unui stil de viață sănătos\, formându-se astfel o comunitate puternică.
URL:https://www.bikemood.ro/eveniment/maratonul-tarnavei-xcm/
LOCATION:Satu Mare
CATEGORIES:Concurs,MTB
ATTACH;FMTTYPE=image/jpeg:https://www.bikemood.ro/wp-content/uploads/2025/01/Maratonul-Tarnavei.jpg
END:VEVENT
BEGIN:VEVENT
DTSTART;TZID=Europe/Helsinki:20250614T080000
DTEND;TZID=Europe/Helsinki:20250615T170000
DTSTAMP:20260419T162721
CREATED:20241212T063743Z
LAST-MODIFIED:20241228T103653Z
UID:213-1749888000-1750006800@www.bikemood.ro
SUMMARY:NETINDAVA XC RACE
DESCRIPTION:Ești pregătit pentru o nouă provocare? \n\n\nTe așteptăm să te alături cursei de ciclism 𝐍𝐞𝐭𝐢𝐧𝐝𝐚𝐯𝐚 𝐗𝐂 𝐑𝐚𝐜𝐞 2025\, pe 14-15 iunie\, la Slobozia!  Indiferent de nivelul de experiență\, acest eveniment este pentru toți pasionații de mișcare și natură. Pedalează alături de noi și bucură-te de o experiență de neuitat!
URL:https://www.bikemood.ro/eveniment/netindava-xc-race/
LOCATION:Satu Mare
CATEGORIES:MTB
ATTACH;FMTTYPE=image/jpeg:https://www.bikemood.ro/wp-content/uploads/2024/12/road-grand-tour.jpg
ORGANIZER;CN="Road Grand Tour":MAILTO:info@roadgrandtour.ro
END:VEVENT
BEGIN:VEVENT
DTSTART;TZID=Europe/Helsinki:20250614T090000
DTEND;TZID=Europe/Helsinki:20250614T203000
DTSTAMP:20260419T162721
CREATED:20250307T084411Z
LAST-MODIFIED:20250531T044247Z
UID:697-1749891600-1749933000@www.bikemood.ro
SUMMARY:Carpathia Bike Tour ediția a IV-a
DESCRIPTION:Cu 90 de kilometri de pedalat\, o porție generoasă de peisaje transilvănene\, dar și ceva acorduri fine\, Carpathia Bike Tour vă așteaptă la ediția a patra! Anul acesta\, pregătiți-vă pentru o tură mai lungă\, mai intensă\, și cu o oprire\, în premieră\, în satul Dăișoara. Cu urcări și coborâri\, dar fără presiune\, doar se știe\, Carpathia Bike Tour nu e despre cine ajunge primul\, ci despre cine savurează cel mai bine experiența\, se bucură de natură\, de sate\, de momentele speciale ale turei. \nEvenimentul este organizat de Fundația Conservation Carpathia și Ferma de Biodiversitate COBOR. \n🛣️ 𝐓𝐫𝐚𝐬𝐞𝐮\nCetatea Rupea – Homorod – Ungra – Dăișoara – Crihalma – Ticușu Nou – Ticușu Vechi – Ferma de Biodiversitate Cobor – Jibert – Dacia – Viscri – Dacia – Cetatea Rupea. \n💧 Două puncte de hidratare. \n\nExplorăm muzeul și biblioteca din Dăișoara\nSavurăm un prânz autentic la Ferma de Biodiversitate Cobor\nDescoperim biserica fortificată din Cobor\, acompaniați de un moment artistic\nFacem popas la biserica din Jibert\nVizităm celebra biserică fortificată din Viscri\nÎncheiem tura la Cetatea Rupea\, unde stăm să ne pice bine pedalatul și ne bucurăm de un moment artistic\n\n🚲Preț bilet: 120 lei (primele 70 de bilete sunt la preț Early Bird\, valabil până la 12 martie 2025).\n150 lei (preț standard\, începând cu 13 martie 2025).\nBilete: https://www.iabilet.ro/bilete-brasov-carpathia-bike-tour-editia-a-iv-a-109221/\nPrețul include: pauzele de hidratare\, prânzul la Ferma de Biodiversitate Cobor\, momentele artistice.\n🚲Număr de locuri disponibile: 140 (sunt toate\, anul acesta nu mai suplimentăm locurile)\n🚲Lungime traseu: 90 km\n🚲Grad de dificultate: mediu spre avansat\n🚲Tura este recomandată cicliștilor pregătiți\, care au mai parcurs ture pe distanțe similare\, cu același grad de dificultate.\n🚲Diferență de nivel: aproximativ 700 m\n🚲Suprafață: asfalt\, drumuri forestiere\, deal\, drumuri neasfaltate\n🚲Viteză deplasare plat: maxim 20-22 km/h\n🚲Bicicletă recomandată: MTB\, cross-country sau trekking\, traseul este un amestec de drum asfaltat\, drum forestier și drum de pământ
URL:https://www.bikemood.ro/eveniment/carpathia-bike-tour-editia-a-iv-a/
LOCATION:Satu Mare
CATEGORIES:Ture
ATTACH;FMTTYPE=image/jpeg:https://www.bikemood.ro/wp-content/uploads/2025/03/carpathia2025.jpg
END:VEVENT
BEGIN:VEVENT
DTSTART;TZID=UTC:20250614T110000
DTEND;TZID=UTC:20250614T170000
DTSTAMP:20260419T162721
CREATED:20241117T061706Z
LAST-MODIFIED:20241210T125122Z
UID:137-1749898800-1749920400@www.bikemood.ro
SUMMARY:Topoloveni Summer Tour 2025
DESCRIPTION:MTB cu gust de prune si alte bunatati. Daca va aflati in cautarea unei experiente cu adevarat incantatoare in aceasta vara\, atunci iata o locatie pe masura. Nu la munte\, nici la mare ci la… Topoloveni! Carari line\, explorate de numai cateva perechi de roti\, paduri dese si poteci late strabat dealurile Argesului si ofera o experienta de neuitat. La Topoloveni se vor scrie noi amintiri pe doua roti. \n  \nMarcajul traseului\nTraseul va fi definitivat si pregatit pentru concurs in ziua evenimentului. In incercarea de a proteja padurile si zonele naturale in care ne desfasuram activitatea\, marcajul nu va fi excesiv. In acest sens va rugam sa consultati harta traseului inaintea cursei\, sa fiti atenti la semnele care exista si sa urmati indicatiile voluntarilor. Marcajul traseului va fi comunicat prin intermediul Ghidului Participantului\, in saptamana evenimentului. \n  \nCum ajungi la locatia de Start\n\nIndicatii dinspre Bucuresti\n\n  \nAccesul pe traseu\nIn afara evenimentului accesul pe traseu este STRICT INTERZIS\, din motive de siguranta\, conform prevederilor Codului Silvic. \n\nInscrieri\nInscrierile se deschid pe 09.04.2025\, la ora 12:00\n\n  \nLOCURI LIMITATE Editia 2025 a evenimentului va avea locurile limitate la 1250 de participanti pentru a asigura o experienta de concurs cat mai echilibrata.\n\n\nINSCRIERI LA FATA LOCULUI\nInscrierile la fata locului pentru acest eveniment NU sunt disponibile.\n\nTOMBOLA\nToti participantii la cursa vor intra automat in tombola evenimentului. Castigatorii vor fi selectati prin randomizare (random.org). In cazul in care va numarati printre castigatori\, trebuie sa prezentati numarul de concurs pentru a va ridica premiul. Detalii despre premiile oferite vor fi disponibile pe masura ce ne apropiem de ziua cursei.
URL:https://www.bikemood.ro/eveniment/topoloveni-summer-tour-2025/
LOCATION:Satu Mare
CATEGORIES:MTB
ATTACH;FMTTYPE=image/jpeg:https://www.bikemood.ro/wp-content/uploads/2024/11/ridersclub2025.jpg
ORGANIZER;CN="Riders Club":MAILTO:contact@mpg.com.ro
END:VEVENT
END:VCALENDAR